BEGIN:VCALENDAR
VERSION:2.0
CALSCALE:GREGORIAN
PRODID:-//Diputació de Barcelona//DibaCMS//EN
BEGIN:VEVENT
UID:5418
DTSTAMP:20260423T221036
DTSTART:20251117T000000
DTEND:20251201T000000
SUMMARY:Pressupostos Participatius: S'obre el període de votacions
LOCATION:
METHOD:PUBLISH
X-WR-CALNAME:canovesisamalus@canovesisamalus.cat
X-WR-TIMEZONE:Europe/Madrid
DESCRIPTION:

URI:https://www.canovesisamalus.cat/actualitat/noticies/pressupostos-participatius-sobre-el-periode-de-votacions.html
CLASS:PUBLIC
END:VEVENT
END:VCALENDAR
