BEGIN:VCALENDAR
VERSION:2.0
CALSCALE:GREGORIAN
PRODID:-//Diputació de Barcelona//DibaCMS//EN
BEGIN:VEVENT
UID:5420
DTSTAMP:20260423T175635
DTSTART:20251121T000000
DTEND:20251222T000000
SUMMARY:Caro Import, de la Garriga, guanya el premi Lismivo 2024 a l’empresa més inclusiva
LOCATION:
METHOD:PUBLISH
X-WR-CALNAME:canovesisamalus@canovesisamalus.cat
X-WR-TIMEZONE:Europe/Madrid
DESCRIPTION:L’acte de lliurament de la novena edició dels premis es va celebrar dilluns el vespre a la Sala de Plens de l’Ajuntament de la Garriga, on l’empresa Ramcon de Mollet del Vallès també va aconseguir el distintiu.

URI:https://www.canovesisamalus.cat/actualitat/noticies/caro-import-de-la-garriga-guanya-el-premi-lismivo-2024-a-lempresa-mes-inclusiva.html
CLASS:PUBLIC
END:VEVENT
END:VCALENDAR
