BEGIN:VCALENDAR
VERSION:2.0
CALSCALE:GREGORIAN
PRODID:-//Diputació de Barcelona//DibaCMS//EN
BEGIN:VEVENT
UID:5422
DTSTAMP:20260423T175931
DTSTART:20251124T000000
DTEND:20251222T000000
SUMMARY:L’EDAR Sant Antoni de Vilamajor compta amb un nou parc de plaques fotovoltaiques
LOCATION:
METHOD:PUBLISH
X-WR-CALNAME:canovesisamalus@canovesisamalus.cat
X-WR-TIMEZONE:Europe/Madrid
DESCRIPTION:
	En total, s’han col·locat 97 plaques que generen fins a un 20% de l’energia que necessita la depuradora per al seu normal funcionament.
	S’evitarà l’emissió a l’atmosfera de quasi 27 tones de CO2


URI:https://www.canovesisamalus.cat/actualitat/noticies/ledar-sant-antoni-de-vilamajor-compta-amb-un-nou-parc-de-plaques-fotovoltaiques.html
CLASS:PUBLIC
END:VEVENT
END:VCALENDAR
