BEGIN:VCALENDAR
VERSION:2.0
CALSCALE:GREGORIAN
PRODID:-//Diputació de Barcelona//DibaCMS//EN
BEGIN:VEVENT
UID:5438
DTSTAMP:20260422T195451
DTSTART:20251203T000000
DTEND:20260102T000000
SUMMARY:Arrenca amb força la primera Festa de la Queixalada, amb èxit de públic i de participació de professionals
LOCATION:
METHOD:PUBLISH
X-WR-CALNAME:canovesisamalus@canovesisamalus.cat
X-WR-TIMEZONE:Europe/Madrid
DESCRIPTION:Més de 3.000 visitants, 200 professionals a les jornades tècniques i tallers plens.

URI:https://www.canovesisamalus.cat/actualitat/noticies/arrenca-amb-forca-la-primera-festa-de-la-queixalada-amb-exit-de-public-i-de-participacio-de-professionals.html
CLASS:PUBLIC
END:VEVENT
END:VCALENDAR
