BEGIN:VCALENDAR
VERSION:2.0
CALSCALE:GREGORIAN
PRODID:-//Diputació de Barcelona//DibaCMS//EN
BEGIN:VEVENT
UID:544
DTSTAMP:20260422T141305
DTSTART:20170507T090000
DTEND:20170507T210000
SUMMARY:27a Fira de Sant Ponç
LOCATION:
METHOD:PUBLISH
X-WR-CALNAME:canovesisamalus@canovesisamalus.cat
X-WR-TIMEZONE:Europe/Madrid
DESCRIPTION:Diumenge 7 de maig

URI:https://www.canovesisamalus.cat/actualitat/agenda-municipal/544-27a-fira-de-sant-ponc.html
CLASS:PUBLIC
END:VEVENT
END:VCALENDAR
