BEGIN:VCALENDAR
VERSION:2.0
CALSCALE:GREGORIAN
PRODID:-//Diputació de Barcelona//DibaCMS//EN
BEGIN:VEVENT
UID:5446
DTSTAMP:20260422T195505
DTSTART:20251205T000000
DTEND:20260112T000000
SUMMARY:Resultats de les votacions pels Pressupostos Participatius 2026
LOCATION:
METHOD:PUBLISH
X-WR-CALNAME:canovesisamalus@canovesisamalus.cat
X-WR-TIMEZONE:Europe/Madrid
DESCRIPTION:•    369 votacions són el total de votacions rebudes per donar suport a les 11 propostes finalistes.
•    La proposta “Millora i reestructuració del parc infantil” guanya amb diferència.

URI:https://www.canovesisamalus.cat/actualitat/noticies/resultats-de-les-votacions-pels-pressupostos-participatius-2026.html
CLASS:PUBLIC
END:VEVENT
END:VCALENDAR
