BEGIN:VCALENDAR
VERSION:2.0
CALSCALE:GREGORIAN
PRODID:-//Diputació de Barcelona//DibaCMS//EN
BEGIN:VEVENT
UID:5451
DTSTAMP:20260422T182619
DTSTART:20251215T000000
DTEND:20260112T000000
SUMMARY:El Banc de Sang fa crida a instaurar la tradició familiar de donar sang per Nadal
LOCATION:
METHOD:PUBLISH
X-WR-CALNAME:canovesisamalus@canovesisamalus.cat
X-WR-TIMEZONE:Europe/Madrid
DESCRIPTION:
	El Banc de Sang fa una crida a tothom a donar sang amb la campanya “La tradició que ens uneix”
	La campanya pretén instaurar la tradició familiar de donar sang amb  familiars, companys, colles, fills, amics... 
	En períodes festius, les reserves baixen fins a un 20% pel canvi d’hàbits de la població, i cal mantenir els estocs suficients 
	Gairebé 6000 pacients necessitaran sang des d’ara i fins a les vacances de Nadal als hospitals catalans 
	Pots trobar les campanyes del Vallès Oriental a www.bancsang.net/donar
	Al desembre se sortejaran 15 bitllets del número de la Grossa de Cap d’Any 25405, amb motiu de l’Any Dr. Frederic Duran i Jordà


URI:https://www.canovesisamalus.cat/actualitat/noticies/el-banc-de-sang-fa-crida-a-instaurar-la-tradicio-familiar-de-donar-sang-per-nadal.html
CLASS:PUBLIC
END:VEVENT
END:VCALENDAR
