BEGIN:VCALENDAR
VERSION:2.0
CALSCALE:GREGORIAN
PRODID:-//Diputació de Barcelona//DibaCMS//EN
BEGIN:VEVENT
UID:5465
DTSTAMP:20260422T194125
DTSTART:20251217T000000
DTEND:20260107T000000
SUMMARY:‘Aquest Nadal, troba’t al Vallès Oriental’
LOCATION:
METHOD:PUBLISH
X-WR-CALNAME:canovesisamalus@canovesisamalus.cat
X-WR-TIMEZONE:Europe/Madrid
DESCRIPTION:TurismeVallès estrena la campanya de Nadal 2025 amb una invitació a descobrir la comarca.

URI:https://www.canovesisamalus.cat/actualitat/noticies/aquest-nadal-trobat-al-valles-oriental.html
CLASS:PUBLIC
END:VEVENT
END:VCALENDAR
