BEGIN:VCALENDAR
VERSION:2.0
CALSCALE:GREGORIAN
PRODID:-//Diputació de Barcelona//DibaCMS//EN
BEGIN:VEVENT
UID:547
DTSTAMP:20260422T154846
DTSTART:20170503T190000
DTEND:20170503T203000
SUMMARY:Xerrada: Alimentació saludable
LOCATION:
METHOD:PUBLISH
X-WR-CALNAME:canovesisamalus@canovesisamalus.cat
X-WR-TIMEZONE:Europe/Madrid
DESCRIPTION:
URI:https://www.canovesisamalus.cat/actualitat/agenda-municipal/xerrada-alimentacio-saludable.html
CLASS:PUBLIC
END:VEVENT
END:VCALENDAR
