BEGIN:VCALENDAR
VERSION:2.0
CALSCALE:GREGORIAN
PRODID:-//Diputació de Barcelona//DibaCMS//EN
BEGIN:VEVENT
UID:5477
DTSTAMP:20260422T154401
DTSTART:20260107T112500
DTEND:20260107T122500
SUMMARY:Banca Mòbil
LOCATION:Camp de la rectoria, s/n  08445 Cànoves i Samalús
METHOD:PUBLISH
X-WR-CALNAME:canovesisamalus@canovesisamalus.cat
X-WR-TIMEZONE:Europe/Madrid
DESCRIPTION:

URI:https://www.canovesisamalus.cat/actualitat/agenda-municipal/banca-mobil.html
CLASS:PUBLIC
END:VEVENT
END:VCALENDAR
