BEGIN:VCALENDAR
VERSION:2.0
CALSCALE:GREGORIAN
PRODID:-//Diputació de Barcelona//DibaCMS//EN
BEGIN:VEVENT
UID:5478
DTSTAMP:20260422T154505
DTSTART:20260123T113500
DTEND:20260123T130000
SUMMARY:Banca Mòbil
LOCATION:Camp de la rectoria, s/n  08445 Cànoves i Samalús
METHOD:PUBLISH
X-WR-CALNAME:canovesisamalus@canovesisamalus.cat
X-WR-TIMEZONE:Europe/Madrid
DESCRIPTION:

URI:https://www.canovesisamalus.cat/actualitat/agenda-municipal/5478-banca-mobil.html
CLASS:PUBLIC
END:VEVENT
END:VCALENDAR
