BEGIN:VCALENDAR
VERSION:2.0
CALSCALE:GREGORIAN
PRODID:-//Diputació de Barcelona//DibaCMS//EN
BEGIN:VEVENT
UID:5479
DTSTAMP:20260422T193804
DTSTART:20260108T000000
DTEND:20260129T000000
SUMMARY:Més digitals: A Catalunya ser digital no té edat
LOCATION:
METHOD:PUBLISH
X-WR-CALNAME:canovesisamalus@canovesisamalus.cat
X-WR-TIMEZONE:Europe/Madrid
DESCRIPTION:
	La Generalitat de Catalunya i Localret treballen conjuntament per reduir al màxim l’anomenada bretxa digital entre la ciutadania de Catalunya.
	L’ajuntament de Cànoves i Samalús programa sessions formatives gratuïtes per a les persones que ho necessitin.


URI:https://www.canovesisamalus.cat/actualitat/noticies/mes-digitals-a-catalunya-ser-digital-no-te-edat.html
CLASS:PUBLIC
END:VEVENT
END:VCALENDAR
