BEGIN:VCALENDAR
VERSION:2.0
CALSCALE:GREGORIAN
PRODID:-//Diputació de Barcelona//DibaCMS//EN
BEGIN:VEVENT
UID:5480
DTSTAMP:20260422T153645
DTSTART:20260113T000000
DTEND:20260118T000000
SUMMARY:Del 8 al 17 de gener torna la festa major de la donació de sang amb la Marató de Donants de Sang de Catalunya
LOCATION:
METHOD:PUBLISH
X-WR-CALNAME:canovesisamalus@canovesisamalus.cat
X-WR-TIMEZONE:Europe/Madrid
DESCRIPTION:La Marató de 2026 programa més d’un centenar de campanyes arreu de Catalunya per superar les 10.000 donacions de sang.

URI:https://www.canovesisamalus.cat/actualitat/noticies/del-8-al-17-de-gener-torna-la-festa-major-de-la-donacio-de-sang-amb-la-marato-de-donants-de-sang-de-catalunya.html
CLASS:PUBLIC
END:VEVENT
END:VCALENDAR
