BEGIN:VCALENDAR
VERSION:2.0
CALSCALE:GREGORIAN
PRODID:-//Diputació de Barcelona//DibaCMS//EN
BEGIN:VEVENT
UID:5483
DTSTAMP:20260422T154606
DTSTART:20260117T170000
DTEND:20260117T200000
SUMMARY:Festa Major de Sant Sebastià de Cànoves
LOCATION:Plaça de Sant Muç 
METHOD:PUBLISH
X-WR-CALNAME:canovesisamalus@canovesisamalus.cat
X-WR-TIMEZONE:Europe/Madrid
DESCRIPTION:Festa Major de Sant Sebastià de Cànoves: 17, 18 i 20 de gener
Festa Major d'hivern de Cànoves

URI:https://www.canovesisamalus.cat/actualitat/agenda-municipal/5483-festa-major-de-sant-sebastia-de-canoves.html
CLASS:PUBLIC
END:VEVENT
END:VCALENDAR
