BEGIN:VCALENDAR
VERSION:2.0
CALSCALE:GREGORIAN
PRODID:-//Diputació de Barcelona//DibaCMS//EN
BEGIN:VEVENT
UID:5485
DTSTAMP:20260422T142922
DTSTART:20260120T160000
DTEND:20260120T190000
SUMMARY:Festa Major de Sant Sebastià de Cànoves
LOCATION:Av. Josep Crous, s/n  08445 Cànoves i Samalús
METHOD:PUBLISH
X-WR-CALNAME:canovesisamalus@canovesisamalus.cat
X-WR-TIMEZONE:Europe/Madrid
DESCRIPTION:Festa Major de Sant Sebastià de Cànoves: 17, 18 i 20 de gener
Festa Major d'hivern de Cànoves

URI:https://www.canovesisamalus.cat/actualitat/agenda-municipal/5485-festa-major-de-sant-sebastia-de-canoves.html
CLASS:PUBLIC
END:VEVENT
END:VCALENDAR
