BEGIN:VCALENDAR
VERSION:2.0
CALSCALE:GREGORIAN
PRODID:-//Diputació de Barcelona//DibaCMS//EN
BEGIN:VEVENT
UID:5489
DTSTAMP:20260422T153835
DTSTART:20260215T100000
DTEND:20260215T235900
SUMMARY:VII Festa de Carnestoltes de Cànoves i Samalús
LOCATION:
METHOD:PUBLISH
X-WR-CALNAME:canovesisamalus@canovesisamalus.cat
X-WR-TIMEZONE:Europe/Madrid
DESCRIPTION:

 

URI:https://www.canovesisamalus.cat/actualitat/agenda-municipal/vii-festa-de-carnestoltes-de-canoves-i-samalus.html
CLASS:PUBLIC
END:VEVENT
END:VCALENDAR
