BEGIN:VCALENDAR
VERSION:2.0
CALSCALE:GREGORIAN
PRODID:-//Diputació de Barcelona//DibaCMS//EN
BEGIN:VEVENT
UID:5573
DTSTAMP:20260422T153608
DTSTART:20260304T112500
DTEND:20260304T122500
SUMMARY:Banca mòbil
LOCATION:A l'aparcament del CAP Cànoves 
METHOD:PUBLISH
X-WR-CALNAME:canovesisamalus@canovesisamalus.cat
X-WR-TIMEZONE:Europe/Madrid
DESCRIPTION:

URI:https://www.canovesisamalus.cat/actualitat/agenda-municipal/5573-banca-mobil.html
CLASS:PUBLIC
END:VEVENT
END:VCALENDAR
