BEGIN:VCALENDAR
VERSION:2.0
CALSCALE:GREGORIAN
PRODID:-//Diputació de Barcelona//DibaCMS//EN
BEGIN:VEVENT
UID:5574
DTSTAMP:20260422T141441
DTSTART:20260320T113500
DTEND:20260320T130000
SUMMARY:Banca mòbil
LOCATION:A l'aparcament del CAP Cànoves 
METHOD:PUBLISH
X-WR-CALNAME:canovesisamalus@canovesisamalus.cat
X-WR-TIMEZONE:Europe/Madrid
DESCRIPTION:

URI:https://www.canovesisamalus.cat/actualitat/agenda-municipal/5574-banca-mobil.html
CLASS:PUBLIC
END:VEVENT
END:VCALENDAR
