BEGIN:VCALENDAR
VERSION:2.0
CALSCALE:GREGORIAN
PRODID:-//Diputació de Barcelona//DibaCMS//EN
BEGIN:VEVENT
UID:5590
DTSTAMP:20260422T141317
DTSTART:20260325T190000
DTEND:20260325T203000
SUMMARY:Taller de lectura
LOCATION:Sala de Plens de l'Ajuntament 
METHOD:PUBLISH
X-WR-CALNAME:canovesisamalus@canovesisamalus.cat
X-WR-TIMEZONE:Europe/Madrid
DESCRIPTION:Llibre: "No sóc aquí" d'Anna Ballbona
Premi llibres Anagrama de Novel·la

Trobada conduïda per Núria Pujolàs.

Inscripcions

 

URI:https://www.canovesisamalus.cat/actualitat/agenda-municipal/5590-taller-de-lectura.html
CLASS:PUBLIC
END:VEVENT
END:VCALENDAR
