BEGIN:VCALENDAR
VERSION:2.0
CALSCALE:GREGORIAN
PRODID:-//Diputació de Barcelona//DibaCMS//EN
BEGIN:VEVENT
UID:5592
DTSTAMP:20260422T170259
DTSTART:20260306T173000
DTEND:20260306T190000
SUMMARY:Taller de xapas
LOCATION:Pati de l'ajuntament 
METHOD:PUBLISH
X-WR-CALNAME:canovesisamalus@canovesisamalus.cat
X-WR-TIMEZONE:Europe/Madrid
DESCRIPTION:Activitat programada en commemoració del 8M - Dia Internacional de les Dones  

URI:https://www.canovesisamalus.cat/actualitat/agenda-municipal/taller-de-xapas.html
CLASS:PUBLIC
END:VEVENT
END:VCALENDAR
