BEGIN:VCALENDAR
VERSION:2.0
CALSCALE:GREGORIAN
PRODID:-//Diputació de Barcelona//DibaCMS//EN
BEGIN:VEVENT
UID:5593
DTSTAMP:20260422T153724
DTSTART:20260313T173000
DTEND:20260313T190000
SUMMARY:Art-Dona
LOCATION:Can Casademunt, s/n  08445 Cànoves i Samalús
METHOD:PUBLISH
X-WR-CALNAME:canovesisamalus@canovesisamalus.cat
X-WR-TIMEZONE:Europe/Madrid
DESCRIPTION:Activitat programada en commemoració del 8M - Dia Internacional de les Dones. 

URI:https://www.canovesisamalus.cat/actualitat/agenda-municipal/art-dona.html
CLASS:PUBLIC
END:VEVENT
END:VCALENDAR
