BEGIN:VCALENDAR
VERSION:2.0
CALSCALE:GREGORIAN
PRODID:-//Diputació de Barcelona//DibaCMS//EN
BEGIN:VEVENT
UID:5594
DTSTAMP:20260422T154350
DTSTART:20260310T093000
DTEND:20260310T133000
SUMMARY:Taller per la recerca de feina
LOCATION:La Mongia
Av.Jaume Morató, 18
Cardedeu 
METHOD:PUBLISH
X-WR-CALNAME:canovesisamalus@canovesisamalus.cat
X-WR-TIMEZONE:Europe/Madrid
DESCRIPTION:Entrevista de feina
Coneix els aspectes més importants per afrontar una entrevista de feina

URI:https://www.canovesisamalus.cat/actualitat/oferta-formativa/taller-per-la-recerca-de-feina.html
CLASS:PUBLIC
END:VEVENT
END:VCALENDAR
