BEGIN:VCALENDAR
VERSION:2.0
CALSCALE:GREGORIAN
PRODID:-//Diputació de Barcelona//DibaCMS//EN
BEGIN:VEVENT
UID:5603
DTSTAMP:20260422T155126
DTSTART:20260309T000000
DTEND:20260402T000000
SUMMARY:Torna el ‘Març de l’Orientació’ per ajudar les persones joves a triar el seu futur acadèmic i professional
LOCATION:
METHOD:PUBLISH
X-WR-CALNAME:canovesisamalus@canovesisamalus.cat
X-WR-TIMEZONE:Europe/Madrid
DESCRIPTION:Aquest mes de març torna el ‘Març de l’Orientació’, el cicle d’activitats que prepara la XVII Fira Guia’t, coordinat pel Consell Comarcal a través del Consell de la Formació Professional i l’Ocupació del Vallès Oriental, amb la col·laboració de l’Ajuntament de Granollers.

El mes de març se centra en l’orientació educativa i l’acompanyament personalitzat a la joventut del Vallès Oriental.

URI:https://www.canovesisamalus.cat/actualitat/noticies/torna-el-marc-de-lorientacio-per-ajudar-les-persones-joves-a-triar-el-seu-futur-academic-i-professional.html
CLASS:PUBLIC
END:VEVENT
END:VCALENDAR
