BEGIN:VCALENDAR
VERSION:2.0
CALSCALE:GREGORIAN
PRODID:-//Diputació de Barcelona//DibaCMS//EN
BEGIN:VEVENT
UID:5605
DTSTAMP:20260422T141541
DTSTART:20260304T000000
DTEND:20260403T000000
SUMMARY:La Fira Guia’t 2026 se celebrarà al Palau d’Esports de Granollers del 24 al 26 de març, amb una aposta reforçada per l’orientació i la prevenció de l’abandonament escolar
LOCATION:
METHOD:PUBLISH
X-WR-CALNAME:canovesisamalus@canovesisamalus.cat
X-WR-TIMEZONE:Europe/Madrid
DESCRIPTION:La dissetena edició reunirà l’oferta professionalitzadora del Vallès Oriental organitzada en 8 sectors productius i 26 famílies professionals.
 

URI:https://www.canovesisamalus.cat/actualitat/noticies/la-fira-guiat-2026-se-celebrara-al-palau-desports-de-granollers-del-24-al-26-de-marc-amb-una-aposta-reforcada-per-lorientacio-i-la-prevencio-de-labandonament-escolar.html
CLASS:PUBLIC
END:VEVENT
END:VCALENDAR
