BEGIN:VCALENDAR
VERSION:2.0
CALSCALE:GREGORIAN
PRODID:-//Diputació de Barcelona//DibaCMS//EN
BEGIN:VEVENT
UID:566
DTSTAMP:20260422T155506
DTSTART:20170514T120000
DTEND:20170514T133000
SUMMARY:Conferència: "El carbó, un tresor d'ahir d'avui i de demà"
LOCATION:
METHOD:PUBLISH
X-WR-CALNAME:canovesisamalus@canovesisamalus.cat
X-WR-TIMEZONE:Europe/Madrid
DESCRIPTION:Ens sembla molt oportú conèixer millor  els que tenim en el nostre entorn, com ho són la fusta i el carbó, que han fet de Samalús un indret important al llarg de la història.

URI:https://www.canovesisamalus.cat/actualitat/agenda-municipal/conferencia-el-carbo-un-tresor-dahir-davui-i-de-dema.html
CLASS:PUBLIC
END:VEVENT
END:VCALENDAR
