BEGIN:VCALENDAR
VERSION:2.0
CALSCALE:GREGORIAN
PRODID:-//Diputació de Barcelona//DibaCMS//EN
BEGIN:VEVENT
UID:5677
DTSTAMP:20260424T163726
DTSTART:20260424T000000
DTEND:20260429T150000
SUMMARY:L'oficina mòbil d'atenció al consumidor visita el municipi el proper 29 d'abril
LOCATION:
METHOD:PUBLISH
X-WR-CALNAME:canovesisamalus@canovesisamalus.cat
X-WR-TIMEZONE:Europe/Madrid
DESCRIPTION:L’Ajuntament posa novament a disposició de la ciutadania el servei de l’Oficina Provincial d’Informació al Consumidor (OPIC). Aquesta unitat mòbil té com a objectiu principal la defensa dels drets dels consumidors i oferir assessorament personalitzat en temes de consum.

URI:https://www.canovesisamalus.cat/actualitat/noticies/loficina-mobil-datencio-al-consumidor-visita-el-municipi-el-proper-29-dabril.html
CLASS:PUBLIC
END:VEVENT
END:VCALENDAR
