BEGIN:VCALENDAR
VERSION:2.0
CALSCALE:GREGORIAN
PRODID:-//Diputació de Barcelona//DibaCMS//EN
BEGIN:VEVENT
UID:5690
DTSTAMP:20260421T064803
DTSTART:20260501T100000
DTEND:20260501T140000
SUMMARY:Crida de donació de Sang
LOCATION:Can Casademunt, s/n  08445 Cànoves i Samalús
METHOD:PUBLISH
X-WR-CALNAME:canovesisamalus@canovesisamalus.cat
X-WR-TIMEZONE:Europe/Madrid
DESCRIPTION:

URI:https://www.canovesisamalus.cat/actualitat/agenda-municipal/crida-de-donacio-de-sang.html
CLASS:PUBLIC
END:VEVENT
END:VCALENDAR
