BEGIN:VCALENDAR
VERSION:2.0
CALSCALE:GREGORIAN
PRODID:-//Diputació de Barcelona//DibaCMS//EN
BEGIN:VEVENT
UID:5692
DTSTAMP:20260421T051554
DTSTART:20260506T112500
DTEND:20260506T122500
SUMMARY:BANCA MÒBIL
LOCATION:Al costat del CAP Cànoves 
METHOD:PUBLISH
X-WR-CALNAME:canovesisamalus@canovesisamalus.cat
X-WR-TIMEZONE:Europe/Madrid
DESCRIPTION:

URI:https://www.canovesisamalus.cat/actualitat/agenda-municipal/5692-banca-mobil.html
CLASS:PUBLIC
END:VEVENT
END:VCALENDAR
