BEGIN:VCALENDAR
VERSION:2.0
CALSCALE:GREGORIAN
PRODID:-//Diputació de Barcelona//DibaCMS//EN
BEGIN:VEVENT
UID:5693
DTSTAMP:20260421T051706
DTSTART:20260522T113500
DTEND:20260522T130000
SUMMARY:BANCA MÒBIL
LOCATION:Al costat del CAP Cànoves 
METHOD:PUBLISH
X-WR-CALNAME:canovesisamalus@canovesisamalus.cat
X-WR-TIMEZONE:Europe/Madrid
DESCRIPTION:

URI:https://www.canovesisamalus.cat/actualitat/agenda-municipal/5693-banca-mobil.html
CLASS:PUBLIC
END:VEVENT
END:VCALENDAR
