BEGIN:VCALENDAR
VERSION:2.0
CALSCALE:GREGORIAN
PRODID:-//Diputació de Barcelona//DibaCMS//EN
BEGIN:VEVENT
UID:5712
DTSTAMP:20260420T150251
DTSTART:20260529T180000
DTEND:20260529T200000
SUMMARY:Taller d'Alimentació: Menjar bé, fàcil i amb energia
LOCATION:Francesc Bruguera, s/n  08445 Cànoves i Samalús
METHOD:PUBLISH
X-WR-CALNAME:canovesisamalus@canovesisamalus.cat
X-WR-TIMEZONE:Europe/Madrid
DESCRIPTION:Vols millorar la teva dieta sense complicar-te la vida? Aquest taller està dissenyat per a persones majors de 18 anys que busquen cuidar-se d'una manera pràctica, realista i, sobretot, sense dietes estrictes ni embolics.

Dies 8, 15, 22 i 29 de maig de 2026

URI:https://www.canovesisamalus.cat/actualitat/oferta-formativa/5712-taller-dalimentacio-menjar-be-facil-i-amb-energia.html
CLASS:PUBLIC
END:VEVENT
END:VCALENDAR
