BEGIN:VCALENDAR
VERSION:2.0
CALSCALE:GREGORIAN
PRODID:-//Diputació de Barcelona//DibaCMS//EN
BEGIN:VEVENT
UID:5714
DTSTAMP:20260420T173652
DTSTART:20260420T130000
DTEND:20260520T000000
SUMMARY:Sessions informatives sobre la regularització extraordinària de persones estrangeres
LOCATION:
METHOD:PUBLISH
X-WR-CALNAME:canovesisamalus@canovesisamalus.cat
X-WR-TIMEZONE:Europe/Madrid
DESCRIPTION:L’Àrea de Polítiques Socials i Igualtat del Consell Comarcal del Vallès Oriental, amb el suport de la Generalitat de Catalunya i diversos ajuntaments de la comarca, organitza un cicle de sessions informatives sobre el procés de regularització extraordinària.

URI:https://www.canovesisamalus.cat/actualitat/noticies/sessions-informatives-sobre-la-regularitzacio-extraordinaria-de-persones-estrangeres.html
CLASS:PUBLIC
END:VEVENT
END:VCALENDAR
