BEGIN:VCALENDAR
VERSION:2.0
CALSCALE:GREGORIAN
PRODID:-//Diputació de Barcelona//DibaCMS//EN
BEGIN:VEVENT
UID:5715
DTSTAMP:20260422T153410
DTSTART:20260422T000000
DTEND:20260520T000000
SUMMARY:Videojocs i joves: Quan la diversió esdevé un problema? Coneix el servei SPOTT
LOCATION:
METHOD:PUBLISH
X-WR-CALNAME:canovesisamalus@canovesisamalus.cat
X-WR-TIMEZONE:Europe/Madrid
DESCRIPTION:L’ús dels videojocs forma part de l’oci habitual de molts infants i adolescents del nostre municipi. Tot i que poden ser una eina de diversió i aprenentatge, en ocasions l’ús pot esdevenir excessiu o generar conflictes familiars. Per acompanyar les famílies en aquestes situacions, recordem que disposem del suport de l’SPOTT, el Centre de Prevenció i Intervenció en Drogodependències i comportaments de risc.

URI:https://www.canovesisamalus.cat/actualitat/noticies/videojocs-i-joves-quan-la-diversio-esdeve-un-problema-coneix-el-servei-spott.html
CLASS:PUBLIC
END:VEVENT
END:VCALENDAR
