BEGIN:VCALENDAR
VERSION:2.0
CALSCALE:GREGORIAN
PRODID:-//Diputació de Barcelona//DibaCMS//EN
BEGIN:VEVENT
UID:5717
DTSTAMP:20260425T000719
DTSTART:20260516T190000
DTEND:20260516T203000
SUMMARY:Cicle Cultural 2026: Espectacle de màgia i humor
LOCATION:Av. Josep Crous, s/n  08445 Cànoves i Samalús
METHOD:PUBLISH
X-WR-CALNAME:canovesisamalus@canovesisamalus.cat
X-WR-TIMEZONE:Europe/Madrid
DESCRIPTION:

URI:https://www.canovesisamalus.cat/actualitat/agenda-municipal/cicle-cultural-2026-espectacle-de-magia-i-humor.html
CLASS:PUBLIC
END:VEVENT
END:VCALENDAR
