BEGIN:VCALENDAR
VERSION:2.0
CALSCALE:GREGORIAN
PRODID:-//Diputació de Barcelona//DibaCMS//EN
BEGIN:VEVENT
UID:613
DTSTAMP:20260422T153546
DTSTART:20170515T000000
DTEND:20170531T000000
SUMMARY:Curs de Química industrial
LOCATION:
METHOD:PUBLISH
X-WR-CALNAME:canovesisamalus@canovesisamalus.cat
X-WR-TIMEZONE:Europe/Madrid
DESCRIPTION:
URI:https://www.canovesisamalus.cat/actualitat/oferta-formativa/curs-de-quimica-industrial.html
CLASS:PUBLIC
END:VEVENT
END:VCALENDAR
