BEGIN:VCALENDAR
VERSION:2.0
CALSCALE:GREGORIAN
PRODID:-//Diputació de Barcelona//DibaCMS//EN
BEGIN:VEVENT
UID:688
DTSTAMP:20260423T175603
DTSTART:20170825T090000
DTEND:20170825T235900
SUMMARY:Festa Major de Samalús
LOCATION:
METHOD:PUBLISH
X-WR-CALNAME:canovesisamalus@canovesisamalus.cat
X-WR-TIMEZONE:Europe/Madrid
DESCRIPTION:Programació del divendres 25 d'agost

URI:https://www.canovesisamalus.cat/actualitat/agenda-municipal/festa-major-de-samalus.html
CLASS:PUBLIC
END:VEVENT
END:VCALENDAR
