BEGIN:VCALENDAR
VERSION:2.0
CALSCALE:GREGORIAN
PRODID:-//Diputació de Barcelona//DibaCMS//EN
BEGIN:VEVENT
UID:879
DTSTAMP:20260422T232809
DTSTART:20171125T000000
DTEND:20171125T000000
SUMMARY:Taller de tècniques d'impressió
LOCATION:
METHOD:PUBLISH
X-WR-CALNAME:canovesisamalus@canovesisamalus.cat
X-WR-TIMEZONE:Europe/Madrid
DESCRIPTION:Activitat a Samalús del programa de Viu el Parc.

URI:https://www.canovesisamalus.cat/actualitat/agenda-municipal/taller-de-tecniques-dimpressio.html
CLASS:PUBLIC
END:VEVENT
END:VCALENDAR
