BEGIN:VCALENDAR
VERSION:2.0
CALSCALE:GREGORIAN
PRODID:-//Diputació de Barcelona//DibaCMS//EN
BEGIN:VEVENT
UID:984
DTSTAMP:20260419T140224
DTSTART:20180130T070500
DTEND:20180225T000000
SUMMARY:La videovigilància ja ha entrat en funcionament
LOCATION:
METHOD:PUBLISH
X-WR-CALNAME:canovesisamalus@canovesisamalus.cat
X-WR-TIMEZONE:Europe/Madrid
DESCRIPTION:Una altra de les principals millores que l’Equip de Govern ja ha implementat de cara a la seguretat i modernització del municipi és el sistema de càmeres de seguretat per controlar l’accés de vehicles a les àrees urbanes.

URI:https://www.canovesisamalus.cat/actualitat/noticies/la-videovigilancia-ja-ha-entrat-en-funcionament.html
CLASS:PUBLIC
END:VEVENT
END:VCALENDAR
